BEGIN:VCALENDAR
VERSION:2.0
PRODID:-//ChamberMaster//Event Calendar 2.0//EN
METHOD:PUBLISH
X-PUBLISHED-TTL:P3D
REFRESH-INTERVAL:P3D
CALSCALE:GREGORIAN
BEGIN:VEVENT
DTSTART:20191024T180000Z
DTEND:20191024T181500Z
X-MICROSOFT-CDO-ALLDAYEVENT:FALSE
SUMMARY:Plain Ol' Pumpkin Ribbon Cutting
DESCRIPTION:Ribbon Cutting
X-ALT-DESC;FMTTYPE=text/html:Ribbon Cutting
LOCATION:4333 260th St. Clear Lake
UID:e.1102.732425
SEQUENCE:3
DTSTAMP:20260421T184329Z
URL:https://members.clearlakeiowa.com/events/details/plain-ol-pumpkin-ribbon-cutting-732425
END:VEVENT

END:VCALENDAR
