BEGIN:VCALENDAR
VERSION:2.0
PRODID:-//ChamberMaster//Event Calendar 2.0//EN
METHOD:PUBLISH
X-PUBLISHED-TTL:P3D
REFRESH-INTERVAL:P3D
CALSCALE:GREGORIAN
BEGIN:VEVENT
DTSTART:20240825T220000Z
DTEND:20240825T230000Z
X-MICROSOFT-CDO-ALLDAYEVENT:FALSE
SUMMARY:Picnics & Performances
DESCRIPTION:Celebrate local talent at this eight-week\, family friendly\, FREE concert series! Bring a lawn chair\, a picnic\, a bottle of wine\, and enjoy music in the beauty of the Gardens. \n\n\nLiv McNair is a singer/songwriter from Winterset\, Iowa who plays a variety of genres including country\, americana\, and folk.
X-ALT-DESC;FMTTYPE=text/html:<p><span style="font-size:12px\;"><span style="font-family:arial\;">Celebrate local talent at this eight-week\, family friendly\, FREE concert series! Bring a lawn chair\, a picnic\, a bottle of wine\, and enjoy music in the beauty of the Gardens. </span></span></p>\n\n<div class="tribe-events-single-event-description tribe-events-content" style="box-sizing: border-box\; color: var(--tec-color-text-primary)\; font-family: &quot\;Open Sans&quot\;\; max-width: 100%\; padding: 0px\; width: 1008px\; float: left\; order: 1\; font-size: 15px\;">\n<p style="box-sizing: border-box\; margin-top: 0px\; margin-bottom: var(--tec-spacer-6)\; font-size: var(--tec-font-size-4)\; line-height: var(--tec-line-height-2)\;"><span style="font-size:12px\;"><span style="font-family:arial\;">Liv McNair is a singer/songwriter from Winterset\, Iowa who plays a variety of genres including country\, americana\, and folk.</span></span></p>\n\n<div>&nbsp\;</div>\n</div>\n\n<div class="tribe-events tribe-common" style="box-sizing: border-box\; -webkit-font-smoothing: antialiased\; order: 1\; width: 1008px\; color: rgb(33\, 37\, 41)\; font-family: &quot\;Open Sans&quot\;\; font-size: 15px\;">\n<div class="tribe-events-c-subscribe-dropdown__container" style="box-sizing: border-box\; border: 0px\; margin: 0px\; padding: 0px\; display: flex\; flex-flow: column\; justify-content: flex-end\; width: 200px\;">&nbsp\;</div>\n</div>\n
LOCATION:Central Gardens of North Iowa Activity Lawn 800 2nd Ave N Clear Lake
UID:e.1102.737799
SEQUENCE:3
DTSTAMP:20260422T100110Z
URL:https://members.clearlakeiowa.com/events/details/picnics-performances-08-25-2024-737799
END:VEVENT

END:VCALENDAR
