BEGIN:VCALENDAR
VERSION:2.0
PRODID:-//ChamberMaster//Event Calendar 2.0//EN
METHOD:PUBLISH
X-PUBLISHED-TTL:P3D
REFRESH-INTERVAL:P3D
CALSCALE:GREGORIAN
BEGIN:VEVENT
DTSTART:20190915T220000Z
DTEND:20190915T230000Z
X-MICROSOFT-CDO-ALLDAYEVENT:FALSE
SUMMARY:Picnics and Performances
DESCRIPTION:Back by popular demand\, the Planet Passengers will entertain you with their creative "blues and more" music. This year they're bringing a third group member! Bring your picnics\, beverage\, and a lawn chair\, sit back and enjoy. Picnics and Performances is underwritten by The Bertha Stebens Foundation and AvanGrid Renewables. The Planet Passengers appearance is sponsored by Pla-Ground Farms and Hearing Associates.
X-ALT-DESC;FMTTYPE=text/html:Back by popular demand\, the Planet Passengers will entertain you with their creative &quot\;blues and more&quot\; music. This year they&#39\;re bringing a third group member! Bring your picnics\, beverage\, and a lawn chair\, sit back and enjoy. Picnics and Performances is underwritten by The Bertha Stebens Foundation and AvanGrid Renewables. The Planet Passengers appearance is sponsored by Pla-Ground Farms and Hearing Associates.
LOCATION:Naturalist Terrace\, Central Gardens
UID:e.1102.732129
SEQUENCE:3
DTSTAMP:20260421T201917Z
URL:https://members.clearlakeiowa.com/events/details/picnics-and-performances-09-15-2019-732129
END:VEVENT

END:VCALENDAR
