BEGIN:VCALENDAR
VERSION:2.0
PRODID:-//ChamberMaster//Event Calendar 2.0//EN
METHOD:PUBLISH
X-PUBLISHED-TTL:P3D
REFRESH-INTERVAL:P3D
CALSCALE:GREGORIAN
BEGIN:VEVENT
DTSTART:20190908T220000Z
DTEND:20190908T230000Z
X-MICROSOFT-CDO-ALLDAYEVENT:FALSE
SUMMARY:Picnics and Performances
DESCRIPTION:Sure to be an audience favorite\, Ruthless Ruth comes to the Gardens to share her classic rock originals and country sounds. An area favorite\, enjoy this free concert\, underwritten by the Bertha Stebens Foundation and AvanGrid Renewables\, and sponsored by the North Iowa Credit Union. Bring your lawn chair and a beverage and picnic!
X-ALT-DESC;FMTTYPE=text/html:Sure to be an audience favorite\, Ruthless Ruth comes to the Gardens to share her classic rock originals and country sounds. An area favorite\, enjoy this free concert\, underwritten by the Bertha Stebens Foundation and AvanGrid Renewables\, and sponsored by the North Iowa Credit Union. Bring your lawn chair and a beverage and picnic!
LOCATION:Naturalist Terrace\, Central Gardens of North Iowa\, Inc.
UID:e.1102.732128
SEQUENCE:3
DTSTAMP:20260421T202315Z
URL:https://members.clearlakeiowa.com/events/details/picnics-and-performances-09-08-2019-732128
END:VEVENT

END:VCALENDAR
