BEGIN:VCALENDAR
VERSION:2.0
PRODID:-//ChamberMaster//Event Calendar 2.0//EN
METHOD:PUBLISH
X-PUBLISHED-TTL:P3D
REFRESH-INTERVAL:P3D
CALSCALE:GREGORIAN
BEGIN:VEVENT
DTSTART:20200906T220000Z
DTEND:20200906T230000Z
X-MICROSOFT-CDO-ALLDAYEVENT:FALSE
SUMMARY:Picnics and Performances
DESCRIPTION:Join us every Sunday evening from 5-6pm from July 26 through September 13 to enjoy the beauty of the gardens in a family-friendly environment. Bring your own picnics\, beverages\, and lawn chairs! Enjoy musicians and much more each week. \n\nThis week's entertainment: Ruthless Ruth\, country
X-ALT-DESC;FMTTYPE=text/html:Join us every Sunday evening from 5-6pm from July 26 through September 13 to enjoy the beauty of the gardens in a family-friendly environment. Bring your own picnics\, beverages\, and lawn chairs! Enjoy musicians and much more each week.&nbsp\;<br />\nThis week&#39\;s entertainment:&nbsp\;<span style="font-family:calibri\,sans-serif\;"><span style="font-size:11.0pt\;">Ruthless Ruth\, country</span></span>
LOCATION:Gazebo\, Central Gardens
UID:e.1102.732375
SEQUENCE:3
DTSTAMP:20260421T052651Z
URL:https://members.clearlakeiowa.com/events/details/picnics-and-performances-09-06-2020-732375
END:VEVENT

END:VCALENDAR
