BEGIN:VCALENDAR
VERSION:2.0
PRODID:-//ChamberMaster//Event Calendar 2.0//EN
METHOD:PUBLISH
X-PUBLISHED-TTL:P3D
REFRESH-INTERVAL:P3D
CALSCALE:GREGORIAN
BEGIN:VEVENT
DTSTART:20190901T170000Z
DTEND:20190901T170000Z
X-MICROSOFT-CDO-ALLDAYEVENT:FALSE
SUMMARY:Picnics and Performances
DESCRIPTION:Audiences will delight in the traditional Irish\, Scottish\, Folk and Americana sounds of Ravensfire Band\, featured performers at this week's Picnics and Performances event. Bring your lawn chair\, a beverage\, and a picnic\, and enjoy! Picnics and Performances is underwritten by the Bertha Stebens Foundation and AvanGrid Renewables. Don's Body Shop is happy to sponsor Ravensfire Band's appearance.
X-ALT-DESC;FMTTYPE=text/html:Audiences will delight in the traditional Irish\, Scottish\, Folk and Americana sounds of Ravensfire Band\, featured performers at this week&#39\;s Picnics and Performances event. Bring your lawn chair\, a beverage\, and a picnic\, and enjoy! Picnics and Performances is underwritten by the Bertha Stebens Foundation and AvanGrid Renewables. Don&#39\;s Body Shop is happy to sponsor Ravensfire Band&#39\;s appearance.
LOCATION:Naturalist Terrace\, Central Gardens of North Iowa\, Inc.
UID:e.1102.732127
SEQUENCE:3
DTSTAMP:20260421T202327Z
URL:https://members.clearlakeiowa.com/events/details/picnics-and-performances-09-01-2019-732127
END:VEVENT

END:VCALENDAR
