BEGIN:VCALENDAR
VERSION:2.0
PRODID:-//ChamberMaster//Event Calendar 2.0//EN
METHOD:PUBLISH
X-PUBLISHED-TTL:P3D
REFRESH-INTERVAL:P3D
CALSCALE:GREGORIAN
BEGIN:VEVENT
DTSTART:20260319T230000Z
DTEND:20260319T233000Z
X-MICROSOFT-CDO-ALLDAYEVENT:FALSE
SUMMARY:Pajama Story Time
DESCRIPTION:Throw on your pajamas\, bring a stuffie if you'd like\, and come join us for a fun night story time at the library.
X-ALT-DESC;FMTTYPE=text/html:Throw on your pajamas\, bring a stuffie if you&#39\;d like\, and come join us for a fun night story time at the library.
LOCATION:Clear Lake Public Library 200 N 4th Street Meeting Room A
UID:e.1102.740127
SEQUENCE:3
DTSTAMP:20260419T141219Z
URL:https://members.clearlakeiowa.com/events/details/pajama-story-time-03-19-2026-740127
END:VEVENT

END:VCALENDAR
