BEGIN:VCALENDAR
VERSION:2.0
PRODID:-//ChamberMaster//Event Calendar 2.0//EN
METHOD:PUBLISH
X-PUBLISHED-TTL:P3D
REFRESH-INTERVAL:P3D
CALSCALE:GREGORIAN
BEGIN:VEVENT
DTSTART;VALUE=DATE:20210731
DTEND;VALUE=DATE:20210801
TRANSP:TRANSPARENT
X-MICROSOFT-CDO-ALLDAYEVENT:TRUE
SUMMARY:Paddlefest
DESCRIPTION:The best way to experience Clear Lake is from the lake. Grab your paddle and join the fun for our 3rd annual Paddlefest event! Explore the shores on your kayak\, canoe\, or SUP on either our 5 mile\, 3 mile\, or the fun 1 mile loop.  Bring the kids to ride along as well!  Check out our Course Map tab to see our routes. See our Schedule tab for our race day line up. Need to rent a kayak\, canoe\, or SUP? We will have some for rent\, but there will be limited availability!\n\n \n\nThis is a FUN event! No pressure on what your time is. We are timing it for those who wish to make it competitive. Our goal is to promote an active lifestyle while enjoying our beautiful lake. This is a great opportunity for water sport enthusiasts to come together and have a good time! Afterwards\, stay for awards and celebrate your finish with food\, drinks\, family\, and friends!\n\n\n\n\n\nKey Notes:\n\n\n	Date: Saturday\, July 31st\n	Time: Packet pick up/check-in is 8:00am-9:15am. Start time @ 9:30am\n	Location: State Park Beach\, 5999 S Shore Ct\, Clear Lake\, IA 50428\n	Kayaks\, Canoes\, and Stand Up Paddle Boards allowed\n	1\, 3\, and 5 miles routes\n	Kids can ride along with an adult for free
X-ALT-DESC;FMTTYPE=text/html:<div style="box-sizing: border-box\; color: rgb(51\, 51\, 51)\; font-family: Montserrat\, sans-serif\; font-size: 14px\; background-color: rgb(255\, 255\, 255)\;">The best way to experience Clear Lake is from the lake. Grab your paddle and join the fun for our 3rd annual Paddlefest event! Explore the shores on your kayak\, canoe\, or SUP on either our 5 mile\, 3 mile\, or the fun 1 mile loop. &nbsp\;Bring the kids to ride along as well! &nbsp\;Check out our&nbsp\;<span style="box-sizing: border-box\; font-weight: 700\;">Course Map</span>&nbsp\;tab to see our routes. See our&nbsp\;<span style="box-sizing: border-box\; font-weight: 700\;">Schedule tab</span>&nbsp\;for our race day line up. Need to rent a kayak\, canoe\, or SUP? We will have some for rent\, but there will be limited availability!</div>\n\n<p style="box-sizing: border-box\; margin: 0px 0px 10px\; color: rgb(51\, 51\, 51)\; font-family: Montserrat\, sans-serif\; font-size: 14px\; background-color: rgb(255\, 255\, 255)\;">&nbsp\;</p>\n\n<p style="box-sizing: border-box\; margin: 0px 0px 10px\; color: rgb(51\, 51\, 51)\; font-family: Montserrat\, sans-serif\; font-size: 14px\; background-color: rgb(255\, 255\, 255)\;">This is a FUN event! No pressure on what your time is. We are timing it for those who wish to make it competitive. Our goal is to promote an active lifestyle while enjoying our beautiful lake. This is a great opportunity for water sport enthusiasts to come together and have a good time! Afterwards\, stay for awards and celebrate your finish with food\, drinks\, family\, and friends!</p>\n\n<h6 style="box-sizing: border-box\; font-family: Montserrat\, sans-serif\; font-weight: 500\; line-height: 1.1\; color: rgb(51\, 51\, 51)\; margin-top: 10px\; margin-bottom: 10px\; font-size: 12px\; background-color: rgb(255\, 255\, 255)\;"><br />\n<br />\n<span style="box-sizing: border-box\; font-weight: 700\;">Key Notes:</span></h6>\n\n<ul style="box-sizing: border-box\; margin-top: 0px\; margin-bottom: 10px\; color: rgb(51\, 51\, 51)\; font-family: Montserrat\, sans-serif\; font-size: 14px\; background-color: rgb(255\, 255\, 255)\;">\n	<li style="box-sizing: border-box\;">Date: Saturday\, July 31st</li>\n	<li style="box-sizing: border-box\;">Time: Packet pick up/check-in is 8:00am-9:15am. Start time @ 9:30am</li>\n	<li style="box-sizing: border-box\;">Location: State Park Beach\, 5999 S Shore Ct\, Clear Lake\, IA 50428</li>\n	<li style="box-sizing: border-box\;">Kayaks\, Canoes\, and Stand Up Paddle Boards allowed</li>\n	<li style="box-sizing: border-box\;">1\, 3\, and 5 miles routes</li>\n	<li style="box-sizing: border-box\;">Kids can ride along with an adult for free</li>\n</ul>\n
LOCATION:Course begins at Clear Lake State Park
UID:e.1102.733500
SEQUENCE:3
DTSTAMP:20260420T045937Z
URL:https://members.clearlakeiowa.com/events/details/paddlefest-733500
END:VEVENT

END:VCALENDAR
