BEGIN:VCALENDAR
VERSION:2.0
PRODID:-//ChamberMaster//Event Calendar 2.0//EN
METHOD:PUBLISH
X-PUBLISHED-TTL:P3D
REFRESH-INTERVAL:P3D
CALSCALE:GREGORIAN
BEGIN:VEVENT
DTSTART:20191003T233000Z
DTEND:20191004T004500Z
X-MICROSOFT-CDO-ALLDAYEVENT:FALSE
SUMMARY:Paddle Pilgrim: a Visit With Author David Ellingson
DESCRIPTION:Paddle Pilgrim chronicles a month-long paddle adventure on the magnificent Sogne and Hardanger Fjords in Norway\, where the author's ancestors emigrated from in the 1850's. Author\, Ellingson has taught courses in spirituality\, environmental ethics\, human development\, and youth ministry at Trinity Lutheran College in Everett\, Wash. He is a Lutheran pastor\, Master Gardener\, former distance runner\, and father of five grown children.
X-ALT-DESC;FMTTYPE=text/html:Paddle Pilgrim chronicles a month-long paddle adventure on the magnificent Sogne and Hardanger Fjords in Norway\, where the author&#39\;s ancestors emigrated from in the 1850&#39\;s. Author\, Ellingson has taught courses in spirituality\, environmental ethics\, human development\, and youth ministry at Trinity Lutheran College in Everett\, Wash. He is a Lutheran pastor\, Master Gardener\, former distance runner\, and father of five grown children.&nbsp\;
LOCATION:Clear Lake Public Library
UID:e.1102.732174
SEQUENCE:3
DTSTAMP:20260421T184431Z
URL:https://members.clearlakeiowa.com/events/details/paddle-pilgrim-a-visit-with-author-david-ellingson-732174
END:VEVENT

END:VCALENDAR
