BEGIN:VCALENDAR
VERSION:2.0
PRODID:-//ChamberMaster//Event Calendar 2.0//EN
METHOD:PUBLISH
X-PUBLISHED-TTL:P3D
REFRESH-INTERVAL:P3D
CALSCALE:GREGORIAN
BEGIN:VEVENT
DTSTART;VALUE=DATE:20250306
DTEND;VALUE=DATE:20250307
TRANSP:TRANSPARENT
X-MICROSOFT-CDO-ALLDAYEVENT:TRUE
SUMMARY:Paddington in Peru (PG)
DESCRIPTION:Full of Paddington's signature blend of wit\, charm\, and laugh-out-loud humor\, Paddington in Peru finds the beloved\, marmalade-loving bear lost in the jungle on an exciting\, high-stakes adventure. When Paddington discovers his beloved Aunt Lucy has gone missing from the Home for Retired Bears\, he and the Brown family head to the wilds of Peru to look for her\, the only clue to her whereabouts a spot marked on an enigmatic map. Determined to solve the mystery\, Paddington embarks on a thrilling quest through the rainforests of the Amazon to find his aunt and may also uncover one of the world's most legendary treasures.
X-ALT-DESC;FMTTYPE=text/html:<p class="film-desc" style="margin: 0px 0px 10px\; font-size: 12px\; max-width: 620px\;"><span style="font-family: Roboto\, sans-serif\; font-size: 12px\;">Full of Paddington&rsquo\;s signature blend of wit\, charm\, and laugh-out-loud humor\, Paddington in Peru finds the beloved\, marmalade-loving bear lost in the jungle on an exciting\, high-stakes adventure. When Paddington discovers his beloved Aunt Lucy has gone missing from the Home for Retired Bears\, he and the Brown family head to the wilds of Peru to look for her\, the only clue to her whereabouts a spot marked on an enigmatic map. Determined to solve the mystery\, Paddington embarks on a thrilling quest through the rainforests of the Amazon to find his aunt and may also uncover one of the world&rsquo\;s most legendary treasures.</span></p>\n
LOCATION:Lake Theatre\, 4 North 4th Street
UID:e.1102.739414
SEQUENCE:3
DTSTAMP:20260422T184419Z
URL:https://members.clearlakeiowa.com/events/details/paddington-in-peru-pg-739414
END:VEVENT

END:VCALENDAR
