BEGIN:VCALENDAR
VERSION:2.0
PRODID:-//ChamberMaster//Event Calendar 2.0//EN
METHOD:PUBLISH
X-PUBLISHED-TTL:P3D
REFRESH-INTERVAL:P3D
CALSCALE:GREGORIAN
BEGIN:VEVENT
DTSTART:20190920T230000Z
DTEND:20190921T020000Z
X-MICROSOFT-CDO-ALLDAYEVENT:FALSE
SUMMARY:Open Mic Night @ Sharkys
DESCRIPTION:We are having another Mic Night.. Say hello to Kristy Neidlinger our Host for that evenings Music. She will be inviting a lot of local talent of new musicians for your listening pleasure. Due to unpredictable Temps / Weather it will be either out in the Tiki Patio or Downstairs or Both !!!
X-ALT-DESC;FMTTYPE=text/html:We are having another Mic Night.. Say hello to Kristy Neidlinger our Host for that evenings Music. She will be inviting a lot of local talent of new musicians for your listening pleasure. Due to unpredictable Temps / Weather it will be either out in the Tiki Patio or Downstairs or Both !!!
LOCATION:12 South Shore Dr.
UID:e.1102.732292
SEQUENCE:3
DTSTAMP:20260421T201728Z
URL:https://members.clearlakeiowa.com/events/details/open-mic-night-sharkys-732292
END:VEVENT

END:VCALENDAR
