BEGIN:VCALENDAR
VERSION:2.0
PRODID:-//ChamberMaster//Event Calendar 2.0//EN
METHOD:PUBLISH
X-PUBLISHED-TTL:P3D
REFRESH-INTERVAL:P3D
CALSCALE:GREGORIAN
BEGIN:VEVENT
DTSTART:20190921T200000Z
DTEND:20190922T000000Z
X-MICROSOFT-CDO-ALLDAYEVENT:FALSE
SUMMARY:One Vision's 50th Benefit Walk Reunion
DESCRIPTION:One Vision is celebrating our 50th Benefit Walk Reunion! Along with the annual Walk\, there will be a human foosball tournament as well. Fun for the entire family will include food\, activities and music. Proceeds from the event will be designated to One Vision's Employment Services program\, providing individuals that we support with job discovery\, training and coaching.
X-ALT-DESC;FMTTYPE=text/html:One Vision is celebrating our 50th Benefit Walk Reunion! Along with the annual Walk\, there will be a human foosball tournament as well. Fun for the entire family will include food\, activities and music. Proceeds from the event will be designated to One Vision&#39\;s Employment Services program\, providing individuals that we support with job discovery\, training and coaching.
LOCATION:Clear Lake City Park
UID:e.1102.732189
SEQUENCE:3
DTSTAMP:20260421T202020Z
URL:https://members.clearlakeiowa.com/events/details/one-vision-s-50th-benefit-walk-reunion-732189
END:VEVENT

END:VCALENDAR
