BEGIN:VCALENDAR
VERSION:2.0
PRODID:-//ChamberMaster//Event Calendar 2.0//EN
METHOD:PUBLISH
X-PUBLISHED-TTL:P3D
REFRESH-INTERVAL:P3D
CALSCALE:GREGORIAN
BEGIN:VEVENT
DTSTART:20260328T140000Z
DTEND:20260328T163000Z
X-MICROSOFT-CDO-ALLDAYEVENT:FALSE
SUMMARY:ONE DAY: Celebrating Community Living
DESCRIPTION:Our annual Celebrating Community Living event will return in spring 2026 offering fun for all ages with an Easter Egg Hunt and a special Cheers to 50 Years celebration honoring individuals and employees who have been part of One Vision for more than 50 years. Guests will enjoy a  free-will pancake breakfast and heartwarming moments of recognition for those who've made a lifelong impact in our mission. This day of gratitude and community connection highlights what makes One Vision truly special: people supporting people.\n\n\n\nEvent Highlights:\n\n\n	Pancake Breakfast: 9:00 AM - 10:30 AM\n	Cheers to 50 Years: 10:30 AM - 10:45 AM\n	Egg Hunt: 10:45 AM - 11:00 AM\n	Activities: 9:00 AM - 11:00 AM\n	Free Swim: All Day
X-ALT-DESC;FMTTYPE=text/html:<p><span style="font-family:aptos\,aptos_embeddedfont\,aptos_msfontservice\,calibri\,helvetica\,sans-serif\; font-size:12pt">Our annual Celebrating Community Living&nbsp\;event will return in spring 2026&mdash\;offering fun for all ages with an Easter Egg Hunt&nbsp\;and a special Cheers to 50 Years celebration honoring individuals and employees who have been part of One Vision for more than 50 years.&nbsp\;Guests will enjoy a </span><span style="font-family:aptos\,aptos_embeddedfont\,aptos_msfontservice\,calibri\,helvetica\,sans-serif\; font-size:12pt"> free-will pancake breakfast&nbsp\;and heartwarming moments of recognition for those who&rsquo\;ve made a lifelong impact in our mission. This day of gratitude and community connection highlights what makes One Vision truly special: people supporting people.<br />\n<br />\nEvent Highlights:</span></p>\n\n<ul>\n	<li>Pancake Breakfast: 9:00 AM - 10:30 AM</li>\n	<li>Cheers to 50 Years: 10:30 AM - 10:45 AM</li>\n	<li>Egg Hunt: 10:45 AM - 11:00 AM</li>\n	<li>Activities: 9:00 AM - 11:00 AM</li>\n	<li>Free Swim: All Day</li>\n</ul>\n
LOCATION:One Vision Kinney Lindstrom Center 600 Glen Oaks Dr Clear Lake\, IA 50428
UID:e.1102.740755
SEQUENCE:3
DTSTAMP:20260419T140518Z
URL:https://members.clearlakeiowa.com/events/details/one-day-celebrating-community-living-04-12-2025-740755
END:VEVENT

END:VCALENDAR
