BEGIN:VCALENDAR
VERSION:2.0
PRODID:-//ChamberMaster//Event Calendar 2.0//EN
METHOD:PUBLISH
X-PUBLISHED-TTL:P3D
REFRESH-INTERVAL:P3D
CALSCALE:GREGORIAN
BEGIN:VEVENT
DTSTART:20260304T160000Z
DTEND:20260404T210000Z
X-MICROSOFT-CDO-ALLDAYEVENT:FALSE
SUMMARY:North Iowa Student Art Show
DESCRIPTION:Celebrate Student Art Month at the Clear Lake Arts Center! Join us for the North Iowa Student Art Show\, featuring outstanding artwork by K 12 students from across the region. This annual exhibition highlights the creativity\, skill\, and unique perspectives of our area's young artists. We invite you to stop by\, support emerging artists\, and experience the inspiring work of the next generation of creatives.
X-ALT-DESC;FMTTYPE=text/html:Celebrate Student Art Month at the Clear Lake Arts Center! Join us for the North Iowa Student Art Show\, featuring outstanding artwork by K&ndash\;12 students from across the region. This annual exhibition highlights the creativity\, skill\, and unique perspectives of our area&rsquo\;s young artists. We invite you to stop by\, support emerging artists\, and experience the inspiring work of the next generation of creatives.
LOCATION:Clear Lake Arts Center Hanson Gallery 17 S 4th St\, Clear Lake\, Iowa 50428
UID:e.1102.740711
SEQUENCE:3
DTSTAMP:20260419T130007Z
URL:https://members.clearlakeiowa.com/events/details/north-iowa-student-art-show-03-04-2026-740711
END:VEVENT

END:VCALENDAR
