BEGIN:VCALENDAR
VERSION:2.0
PRODID:-//ChamberMaster//Event Calendar 2.0//EN
METHOD:PUBLISH
X-PUBLISHED-TTL:P3D
REFRESH-INTERVAL:P3D
CALSCALE:GREGORIAN
BEGIN:VEVENT
DTSTART:20190927T210000Z
DTEND:20190929T210000Z
X-MICROSOFT-CDO-ALLDAYEVENT:FALSE
SUMMARY:North Iowa Art Studio Tour
DESCRIPTION:Free tours of 13 North Iowa artist's studios with 23 artists. More information and maps can be found at Clear Lake Chamber\, MC Chamber\, Art on the Plaza in Mason City\, Mason City Visitor's Center or find us on Facebook.
X-ALT-DESC;FMTTYPE=text/html:Free tours of 13 North Iowa artist&#39\;s studios with 23 artists. More information and maps can be found at Clear Lake Chamber\, MC Chamber\, Art on the Plaza in Mason City\, Mason City Visitor&#39\;s Center or find us on Facebook.
LOCATION:Clear Lake\, Mason City\, Manly\, and Sheffield
UID:e.1102.732272
SEQUENCE:3
DTSTAMP:20260421T202050Z
URL:https://members.clearlakeiowa.com/events/details/north-iowa-art-studio-tour-732272
END:VEVENT

END:VCALENDAR
