BEGIN:VCALENDAR
VERSION:2.0
PRODID:-//ChamberMaster//Event Calendar 2.0//EN
METHOD:PUBLISH
X-PUBLISHED-TTL:P3D
REFRESH-INTERVAL:P3D
CALSCALE:GREGORIAN
BEGIN:VEVENT
DTSTART:20211013T220000Z
DTEND:20211013T233000Z
X-MICROSOFT-CDO-ALLDAYEVENT:FALSE
SUMMARY:NITC Wednesday Night Group Bike ride
DESCRIPTION:Meet at the Clear Lake Seawall by 4:50 pm Enjoy a casual group ride around the lake or a longer ride \, depending on what riders are wanting to do. All are welcome. These are no drop rides. These rides are sponsored by North Iowa Touring Club Contact is Earl Hill at earl@earlwhill.com
X-ALT-DESC;FMTTYPE=text/html:Meet at the Clear Lake Seawall by 4:50 pm Enjoy a casual group ride around the lake or a longer ride \, depending on what riders are wanting to do. All are welcome. These are no drop rides. These rides are sponsored by North Iowa Touring Club Contact is Earl Hill at earl@earlwhill.com
LOCATION:Clear Lake Seawall
UID:e.1102.733910
SEQUENCE:3
DTSTAMP:20260423T141951Z
URL:https://members.clearlakeiowa.com/events/details/nitc-wednesday-night-group-bike-ride-10-13-2021-733910
END:VEVENT

END:VCALENDAR
