BEGIN:VCALENDAR
VERSION:2.0
PRODID:-//ChamberMaster//Event Calendar 2.0//EN
METHOD:PUBLISH
X-PUBLISHED-TTL:P3D
REFRESH-INTERVAL:P3D
CALSCALE:GREGORIAN
BEGIN:VEVENT
DTSTART:20191029T223000Z
DTEND:20191030T013000Z
X-MICROSOFT-CDO-ALLDAYEVENT:FALSE
SUMMARY:NIACC Pappajohn Entrepreneur Gala
DESCRIPTION:Join us for the Pappajohn Entrepreneur Gala on Tuesday\, October 29\, 2019. We will share our story and annual report\, recognize the region's entrepreneurs\, and honor John K. and Luise V. Hanson's vital contributions and support to North Iowa with the Legacy Award. The Pappajohn Entrepreneur Gala will be held at NIACC Activity Center with a reception\, dinner\, program\, and awards honoring entrepreneurs. We are pleased to announce Gary Schoeniger\, co-author of the book\, "Who Owns the Ice House? Eight Life Lessons from an Unlikely Entrepreneur"\, as the keynote speaker and invited guests\, Governor Kim Reynolds\, Director Debi Durham\, IEDA\, and John and Mary Pappajohn. Gala tickets now on saleat https://www.niacc.edu/pappajohn/gala/ Entrepreneur Awards Entrepreneur of the Year Award Application   The Entrepreneur of the Year Award recognizes the success\, dedication\, and contributions to the community by a North Iowa entrepreneur. Young Entrepreneur of the Year Award Application   The Young Entrepreneur of the Year Award recognizes the accomplishments of a North Iowa entrepreneur under the age of 40. Business of the Year Award Application   The Business of the Year Award recognizes a North Iowa company for overall achievement in innovation\, vision\, growth\, and skill. Innovation Award Application   The Innovation Award honors North Iowa businesses who are industry leaders in developing and implementing emergent technology.
X-ALT-DESC;FMTTYPE=text/html:Join us for the Pappajohn Entrepreneur Gala on Tuesday\, October 29\, 2019. We will share our story and annual report\, recognize the region&rsquo\;s entrepreneurs\, and honor John K. and Luise V. Hanson&rsquo\;s vital contributions and support to North Iowa with the Legacy Award. The Pappajohn Entrepreneur Gala will be held at NIACC Activity Center with a reception\, dinner\, program\, and awards honoring entrepreneurs. We are pleased to announce Gary Schoeniger\, co-author of the book\, &ldquo\;Who Owns the Ice House? Eight Life Lessons from an Unlikely Entrepreneur&rdquo\;\, as the keynote speaker and invited guests\, Governor Kim Reynolds\, Director Debi Durham\, IEDA\, and John and Mary Pappajohn. Gala tickets now on saleat https://www.niacc.edu/pappajohn/gala/ Entrepreneur Awards Entrepreneur of the Year Award Application &ndash\; The Entrepreneur of the Year Award recognizes the success\, dedication\, and contributions to the community by a North Iowa entrepreneur. Young Entrepreneur of the Year Award Application &ndash\; The Young Entrepreneur of the Year Award recognizes the accomplishments of a North Iowa entrepreneur under the age of 40. Business of the Year Award Application &ndash\; The Business of the Year Award recognizes a North Iowa company for overall achievement in innovation\, vision\, growth\, and skill. Innovation Award Application &ndash\; The Innovation Award honors North Iowa businesses who are industry leaders in developing and implementing emergent technology.
LOCATION:NIACC - Activity Center 500 College Drive Mason City\, IA 50401
UID:e.1102.732321
SEQUENCE:3
DTSTAMP:20260421T184610Z
URL:https://members.clearlakeiowa.com/events/details/niacc-pappajohn-entrepreneur-gala-732321
END:VEVENT

END:VCALENDAR
