BEGIN:VCALENDAR
VERSION:2.0
PRODID:-//ChamberMaster//Event Calendar 2.0//EN
METHOD:PUBLISH
X-PUBLISHED-TTL:P3D
REFRESH-INTERVAL:P3D
CALSCALE:GREGORIAN
BEGIN:VEVENT
DTSTART:20191012T180000Z
DTEND:20191012T210000Z
X-MICROSOFT-CDO-ALLDAYEVENT:FALSE
SUMMARY:NIACC Family STEM Festival
DESCRIPTION:A FREE hands-on family event for all ages featuring a 3D anatomy experience\, virtual reality simulator\, spooky chemistry\, star lab\, technology toys\, snacks and much more!
X-ALT-DESC;FMTTYPE=text/html:A FREE hands-on family event for all ages featuring a 3D anatomy experience\, virtual reality simulator\, spooky chemistry\, star lab\, technology toys\, snacks and much more!
LOCATION:NIACC Campus\, 500 College Dr.\, Mason City\, Iowa
UID:e.1102.732326
SEQUENCE:3
DTSTAMP:20260421T184836Z
URL:https://members.clearlakeiowa.com/events/details/niacc-family-stem-festival-732326
END:VEVENT

END:VCALENDAR
