BEGIN:VCALENDAR
VERSION:2.0
PRODID:-//ChamberMaster//Event Calendar 2.0//EN
METHOD:PUBLISH
X-PUBLISHED-TTL:P3D
REFRESH-INTERVAL:P3D
CALSCALE:GREGORIAN
BEGIN:VEVENT
DTSTART;VALUE=DATE:20191231
DTEND;VALUE=DATE:20200101
TRANSP:TRANSPARENT
X-MICROSOFT-CDO-ALLDAYEVENT:TRUE
SUMMARY:New Year's Eve Party featuring Vic Ferrari Band
DESCRIPTION:Ticket price includes party favors and champagne at midnight. Must be 21+ to attend.
X-ALT-DESC;FMTTYPE=text/html:Ticket price includes party favors and champagne at midnight. Must be 21+ to attend.
LOCATION:Surf Ballroom
UID:e.1102.732451
SEQUENCE:3
DTSTAMP:20260421T172432Z
URL:https://members.clearlakeiowa.com/events/details/new-year-s-eve-party-featuring-vic-ferrari-band-732451
END:VEVENT

END:VCALENDAR
