BEGIN:VCALENDAR
VERSION:2.0
PRODID:-//ChamberMaster//Event Calendar 2.0//EN
METHOD:PUBLISH
X-PUBLISHED-TTL:P3D
REFRESH-INTERVAL:P3D
CALSCALE:GREGORIAN
BEGIN:VEVENT
DTSTART:20260304T000000Z
DTEND:20260304T010000Z
X-MICROSOFT-CDO-ALLDAYEVENT:FALSE
SUMMARY:Mystery Book Club: The Silent Patient
DESCRIPTION:The Mystery Book Club meets on the first Tuesday of the month at 6:00 pm in the library. The Silent Patient by Alex Michaelides: The Silent Patient is a shocking psychological thriller of a woman's act of violence against her husband?and of the therapist obsessed with uncovering her motive. Alicia Berenson's life is seemingly perfect. A famous painter married to an in-demand fashion photographer\, she lives in a grand house with big windows overlooking a park in one of London's most desirable areas. One evening her husband Gabriel returns home late from a fashion shoot\, and Alicia shoots him five times in the face\, and then never speaks another word. Alicia's refusal to talk\, or give any kind of explanation\, turns a domestic tragedy into something far grander\, a mystery that captures the public imagination and casts Alicia into notoriety. The price of her art skyrockets\, and she\, the silent patient\, is hidden away from the tabloids and spotlight at the Grove\, a secure forensic unit in North London. Theo Faber is a criminal psychotherapist who has waited a long time for the opportunity to work with Alicia. His determination to get her to talk and unravel the mystery of why she shot her husband takes him down a twisting path into his own motivations?a search for the truth that threatens to consume him....
X-ALT-DESC;FMTTYPE=text/html:The Mystery Book Club meets on the first Tuesday of the month at 6:00 pm in the library. The Silent Patient by Alex Michaelides: The Silent Patient is a shocking psychological thriller of a woman&rsquo\;s act of violence against her husband?and of the therapist obsessed with uncovering her motive. Alicia Berenson&rsquo\;s life is seemingly perfect. A famous painter married to an in-demand fashion photographer\, she lives in a grand house with big windows overlooking a park in one of London&rsquo\;s most desirable areas. One evening her husband Gabriel returns home late from a fashion shoot\, and Alicia shoots him five times in the face\, and then never speaks another word. Alicia&rsquo\;s refusal to talk\, or give any kind of explanation\, turns a domestic tragedy into something far grander\, a mystery that captures the public imagination and casts Alicia into notoriety. The price of her art skyrockets\, and she\, the silent patient\, is hidden away from the tabloids and spotlight at the Grove\, a secure forensic unit in North London. Theo Faber is a criminal psychotherapist who has waited a long time for the opportunity to work with Alicia. His determination to get her to talk and unravel the mystery of why she shot her husband takes him down a twisting path into his own motivations?a search for the truth that threatens to consume him....
LOCATION:Clear Lake Public Library 200 N 4th St
UID:e.1102.741042
SEQUENCE:3
DTSTAMP:20260419T130018Z
URL:https://members.clearlakeiowa.com/events/details/mystery-book-club-the-silent-patient-741042
END:VEVENT

END:VCALENDAR
