BEGIN:VCALENDAR
VERSION:2.0
PRODID:-//ChamberMaster//Event Calendar 2.0//EN
METHOD:PUBLISH
X-PUBLISHED-TTL:P3D
REFRESH-INTERVAL:P3D
CALSCALE:GREGORIAN
BEGIN:VEVENT
DTSTART:20260505T230000Z
DTEND:20260506T000000Z
X-MICROSOFT-CDO-ALLDAYEVENT:FALSE
SUMMARY:Mystery Book Club: The Secret History of the Rape Kit
DESCRIPTION:The Mystery Book Club meets on the first Tuesday of the month at 6:00 pm in the library. The Secret History of the Rape Kit by Pagan Kennedy: In 1972\, Martha "Marty" Goddard volunteered at a crisis hotline\, counseling girls who had been molested by their fathers\, their teachers\, their uncles. Soon\, Marty was on a mission to answer a question: Why were so many sexual predators getting away with these crimes? By the end of the decade\, she had launched a campaign pushing hospitals and police departments to collect evidence of sexual assault and treat survivors with dignity. She designed a new kind of forensics tool the rape kit and new practices around evidence collection that spread across the country. Yet even as Marty fought for women's rights\, she allowed a man to take credit for her work. When journalist Pagan Kennedy went looking for this forgotten pioneer\, she discovered that even Marty Goddard's closest friends had lost track of her. As Pagan followed a trail of clues to solve the mystery of Marty\, she also delved into the problematic history of forensics in America. The Secret History of the Rape Kit chronicles one journalist's mission to understand a crucial innovation in forensics and the woman who championed it. As Pagan Kennedy hunts for answers\, she reflects on her own experiences with sexual assault and her own desire for justice.
X-ALT-DESC;FMTTYPE=text/html:The Mystery Book Club meets on the first Tuesday of the month at 6:00 pm in the library. The Secret History of the Rape Kit by Pagan Kennedy: In 1972\, Martha &quot\;Marty&quot\; Goddard volunteered at a crisis hotline\, counseling girls who had been molested by their fathers\, their teachers\, their uncles. Soon\, Marty was on a mission to answer a question: Why were so many sexual predators getting away with these crimes? By the end of the decade\, she had launched a campaign pushing hospitals and police departments to collect evidence of sexual assault and treat survivors with dignity. She designed a new kind of forensics tool&mdash\;the rape kit&mdash\;and new practices around evidence collection that spread across the country. Yet even as Marty fought for women&#39\;s rights\, she allowed a man to take credit for her work. When journalist Pagan Kennedy went looking for this forgotten pioneer\, she discovered that even Marty Goddard&#39\;s closest friends had lost track of her. As Pagan followed a trail of clues to solve the mystery of Marty\, she also delved into the problematic history of forensics in America. The Secret History of the Rape Kit chronicles one journalist&#39\;s mission to understand a crucial innovation in forensics and the woman who championed it. As Pagan Kennedy hunts for answers\, she reflects on her own experiences with sexual assault and her own desire for justice.
LOCATION:Clear Lake Public Library 200 n 4th St
UID:e.1102.741044
SEQUENCE:3
DTSTAMP:20260419T123815Z
URL:https://members.clearlakeiowa.com/events/details/mystery-book-club-the-secret-history-of-the-rape-kit-741044
END:VEVENT

END:VCALENDAR
