BEGIN:VCALENDAR
VERSION:2.0
PRODID:-//ChamberMaster//Event Calendar 2.0//EN
METHOD:PUBLISH
X-PUBLISHED-TTL:P3D
REFRESH-INTERVAL:P3D
CALSCALE:GREGORIAN
BEGIN:VEVENT
DTSTART:20250305T000000Z
DTEND:20250305T010000Z
X-MICROSOFT-CDO-ALLDAYEVENT:FALSE
SUMMARY:Mystery Book Club: Immortal in Death
DESCRIPTION:The Mystery Book Club meets on the first Tuesday of the month at 6:00 pm in the library. October's selection is Immortal in Death by JD Robb. Summary: She was one of the most sought after women in the world. A top model who would stop at nothing to get what she wanted - even another woman's man. And now she was dead\, the victim of a brutal murder. Police lieutenant Eve Dallas put her professional life on the line to take the case when suspicion fell on her best friend\, the other woman in the fatal love triangle. Beneath the fa ade of glamour\, Eve found that the world of high fashion thrived on an all-consuming obsession for youth and fame. One that led from the runway to the dark underworld of New York City where drugs could be found to fulfill any desire - for a price.
X-ALT-DESC;FMTTYPE=text/html:The Mystery Book Club meets on the first Tuesday of the month at 6:00 pm in the library. October&#39\;s selection is Immortal in Death by JD Robb. Summary: She was one of the most sought after women in the world. A top model who would stop at nothing to get what she wanted - even another woman&#39\;s man. And now she was dead\, the victim of a brutal murder. Police lieutenant Eve Dallas put her professional life on the line to take the case when suspicion fell on her best friend\, the other woman in the fatal love triangle. Beneath the fa&ccedil\;ade of glamour\, Eve found that the world of high fashion thrived on an all-consuming obsession for youth and fame. One that led from the runway to the dark underworld of New York City where drugs could be found to fulfill any desire - for a price.
LOCATION:Clear Lake Public Library 200 N 4th St
UID:e.1102.739444
SEQUENCE:3
DTSTAMP:20260422T184724Z
URL:https://members.clearlakeiowa.com/events/details/mystery-book-club-immortal-in-death-739444
END:VEVENT

END:VCALENDAR
