BEGIN:VCALENDAR
VERSION:2.0
PRODID:-//ChamberMaster//Event Calendar 2.0//EN
METHOD:PUBLISH
X-PUBLISHED-TTL:P3D
REFRESH-INTERVAL:P3D
CALSCALE:GREGORIAN
BEGIN:VEVENT
DTSTART:20210720T140000Z
DTEND:20210720T170000Z
X-MICROSOFT-CDO-ALLDAYEVENT:FALSE
SUMMARY:Music Blast Camp
DESCRIPTION:Piano-Ukulele-Drums-Music Theory: Students learn it ALL at this music camp that is sure to be a blast! Students will have the opportunity to improvise\, compose\, and work together to create some rockin' music. In this camp we will play games that teach musical concepts\, note reading\, as well as the fundamentals of piano\, ukulele\, & drums!
X-ALT-DESC;FMTTYPE=text/html:Piano-Ukulele-Drums-Music Theory: Students learn it ALL at this music camp that is sure to be a blast! Students will have the opportunity to improvise\, compose\, and work together to create some rockin&#39\; music. In this camp we will play games that teach musical concepts\, note reading\, as well as the fundamentals of piano\, ukulele\, &amp\; drums!
LOCATION:Surf Ballroom Music Enrichment Center (509 Buddy Holly Place)
UID:e.1102.733683
SEQUENCE:3
DTSTAMP:20260420T050023Z
URL:https://members.clearlakeiowa.com/events/details/music-blast-camp-733683
END:VEVENT

END:VCALENDAR
