BEGIN:VCALENDAR
VERSION:2.0
PRODID:-//ChamberMaster//Event Calendar 2.0//EN
METHOD:PUBLISH
X-PUBLISHED-TTL:P3D
REFRESH-INTERVAL:P3D
CALSCALE:GREGORIAN
BEGIN:VEVENT
DTSTART:20210718T200000Z
DTEND:20210718T213000Z
X-MICROSOFT-CDO-ALLDAYEVENT:FALSE
SUMMARY:Municipal Band Concert
DESCRIPTION:The Clear Lake Municipal Band performs most weekends through mid-July. Concert times are 7pm Saturdays and 3pm Sundays\, with a special July 4th concert at 8:30pm. Bring your lawn chair and relax in City Park as they strike up the band! The weekly concert program is printed in the Clear Lake Mirror Reporter.\n\n\n\nConcerts are held June 12 & 13\, 19 & 20\, 26 & 27 and July 17 & 18. \n\nSaturday 7pm\n\nSunday 3pm\n\nJuly 4 special concert at 8:30pm.
X-ALT-DESC;FMTTYPE=text/html:<span class="event-description">The Clear Lake Municipal Band performs most weekends through mid-July.&nbsp\;Concert times are 7pm Saturdays and 3pm Sundays\, with a special July 4th concert at 8:30pm. Bring your lawn chair and relax in City Park as they strike up the band! The weekly concert program is printed in the Clear Lake Mirror Reporter.</span><br />\n<br />\n<span class="event-description" style="color: rgb(51\, 51\, 51)\; font-family: sans-serif\, Arial\, Verdana\, &quot\;Trebuchet MS&quot\;\; font-size: 13px\;">Concerts are held&nbsp\;</span><span style="color: rgb(51\, 51\, 51)\; font-family: sans-serif\, Arial\, Verdana\, &quot\;Trebuchet MS&quot\;\; font-size: 13px\; background-color: rgb(255\, 255\, 255)\;">June 12 &amp\; 13\, 19 &amp\; 20\, 26 &amp\; 27 and July 17 &amp\; 18.&nbsp\;</span><br style="color: rgb(51\, 51\, 51)\; font-family: sans-serif\, Arial\, Verdana\, &quot\;Trebuchet MS&quot\;\; font-size: 13px\;" />\n<span style="color: rgb(51\, 51\, 51)\; font-family: sans-serif\, Arial\, Verdana\, &quot\;Trebuchet MS&quot\;\; font-size: 13px\; background-color: rgb(255\, 255\, 255)\;">Saturday 7pm</span><br style="color: rgb(51\, 51\, 51)\; font-family: sans-serif\, Arial\, Verdana\, &quot\;Trebuchet MS&quot\;\; font-size: 13px\;" />\n<span style="color: rgb(51\, 51\, 51)\; font-family: sans-serif\, Arial\, Verdana\, &quot\;Trebuchet MS&quot\;\; font-size: 13px\; background-color: rgb(255\, 255\, 255)\;">Sunday 3pm</span><br style="color: rgb(51\, 51\, 51)\; font-family: sans-serif\, Arial\, Verdana\, &quot\;Trebuchet MS&quot\;\; font-size: 13px\;" />\n<span class="event-description" style="color: rgb(51\, 51\, 51)\; font-family: sans-serif\, Arial\, Verdana\, &quot\;Trebuchet MS&quot\;\; font-size: 13px\;">July 4 special concert at 8:30pm.</span>
LOCATION:City Park Bandshell
UID:e.1102.733602
SEQUENCE:3
DTSTAMP:20260420T050617Z
URL:https://members.clearlakeiowa.com/events/details/municipal-band-concert-07-18-2021-733602
END:VEVENT

END:VCALENDAR
