BEGIN:VCALENDAR
VERSION:2.0
PRODID:-//ChamberMaster//Event Calendar 2.0//EN
METHOD:PUBLISH
X-PUBLISHED-TTL:P3D
REFRESH-INTERVAL:P3D
CALSCALE:GREGORIAN
BEGIN:VEVENT
DTSTART:20191028T180000Z
DTEND:20191028T193000Z
X-MICROSOFT-CDO-ALLDAYEVENT:FALSE
SUMMARY:Movie Monday
DESCRIPTION:The fourth Monday of every month come to the library and watch a movie! In accordance with our licensing agreement we cannot post what the movie is\, please contact the library if you would like to know what the movie is or have questions.
X-ALT-DESC;FMTTYPE=text/html:The fourth Monday of every month come to the library and watch a movie! In accordance with our licensing agreement we cannot post what the movie is\, please contact the library if you would like to know what the movie is or have questions.
LOCATION:Clear Lake Public Library
UID:e.1102.732176
SEQUENCE:3
DTSTAMP:20260421T184610Z
URL:https://members.clearlakeiowa.com/events/details/movie-monday-10-28-2019-732176
END:VEVENT

END:VCALENDAR
