BEGIN:VCALENDAR
VERSION:2.0
PRODID:-//ChamberMaster//Event Calendar 2.0//EN
METHOD:PUBLISH
X-PUBLISHED-TTL:P3D
REFRESH-INTERVAL:P3D
CALSCALE:GREGORIAN
BEGIN:VEVENT
DTSTART:20191023T163000Z
DTEND:20191023T164500Z
X-MICROSOFT-CDO-ALLDAYEVENT:FALSE
SUMMARY:Mosaic Ribbon Cutting
DESCRIPTION:
X-ALT-DESC;FMTTYPE=text/html:
LOCATION:Clear Lake Area Chamber Clear Lake Iowa
UID:e.1102.732382
SEQUENCE:3
DTSTAMP:20260421T183945Z
URL:https://members.clearlakeiowa.com/events/details/mosaic-ribbon-cutting-732382
END:VEVENT

END:VCALENDAR
