BEGIN:VCALENDAR
VERSION:2.0
PRODID:-//ChamberMaster//Event Calendar 2.0//EN
METHOD:PUBLISH
X-PUBLISHED-TTL:P3D
REFRESH-INTERVAL:P3D
CALSCALE:GREGORIAN
BEGIN:VEVENT
DTSTART:20260311T190000Z
DTEND:20260311T210000Z
X-MICROSOFT-CDO-ALLDAYEVENT:FALSE
SUMMARY:Messy Art
DESCRIPTION:Grab some old clothes you don't mind getting dirty and join us in the meeting room for Messy Art! All ages\, toddler to adult\, are invited to spend some time creating their own masterpieces. Some paint shirts in select sizes are available to borrow. Drop in event.
X-ALT-DESC;FMTTYPE=text/html:Grab some old clothes you don&#39\;t mind getting dirty and join us in the meeting room for Messy Art! All ages\, toddler to adult\, are invited to spend some time creating their own masterpieces. Some paint shirts in select sizes are available to borrow. Drop in event.
LOCATION:Clear Lake Public Library 200 N 4th Street Meeting Rooms
UID:e.1102.740124
SEQUENCE:3
DTSTAMP:20260419T125632Z
URL:https://members.clearlakeiowa.com/events/details/messy-art-03-11-2026-740124
END:VEVENT

END:VCALENDAR
