BEGIN:VCALENDAR
VERSION:2.0
PRODID:-//ChamberMaster//Event Calendar 2.0//EN
METHOD:PUBLISH
X-PUBLISHED-TTL:P3D
REFRESH-INTERVAL:P3D
CALSCALE:GREGORIAN
BEGIN:VEVENT
DTSTART:20190924T203000Z
DTEND:20190924T213000Z
X-MICROSOFT-CDO-ALLDAYEVENT:FALSE
SUMMARY:Membership 101
DESCRIPTION:A great way to learn all of the benefits of your chamber membership with CEO Stacy Doughan.\n\nNew members (& longtime members) are invited.
X-ALT-DESC;FMTTYPE=text/html:A great way to learn all of the benefits of your chamber membership with CEO Stacy Doughan.<br />\nNew members (&amp\; longtime members) are invited.
LOCATION:Chamber Board Room
UID:e.1102.731775
SEQUENCE:3
DTSTAMP:20260421T201711Z
URL:https://members.clearlakeiowa.com/events/details/membership-101-731775
END:VEVENT

END:VCALENDAR
