BEGIN:VCALENDAR
VERSION:2.0
PRODID:-//ChamberMaster//Event Calendar 2.0//EN
METHOD:PUBLISH
X-PUBLISHED-TTL:P3D
REFRESH-INTERVAL:P3D
CALSCALE:GREGORIAN
BEGIN:VEVENT
DTSTART:20260105T210000Z
DTEND:20260105T230000Z
X-MICROSOFT-CDO-ALLDAYEVENT:FALSE
SUMMARY:Mahjongg!
DESCRIPTION:Whether you are new to Mahjongg or have been playing for years\, head to the library on Monday afternoons from 3:00-5:00 p.m. to play. The group meets in Study Room C with overflow into the sun room. If you have a set\, feel free to bring that with so multiple games can get going.
X-ALT-DESC;FMTTYPE=text/html:Whether you are new to Mahjongg or have been playing for years\, head to the library on Monday afternoons from 3:00-5:00 p.m. to play. The group meets in Study Room C with overflow into the sun room. If you have a set\, feel free to bring that with so multiple games can get going.
LOCATION:Clear Lake Public Library 200 N 4th Street Upstairs - Study Room C
UID:e.1102.740722
SEQUENCE:3
DTSTAMP:20260419T191423Z
URL:https://members.clearlakeiowa.com/events/details/mahjongg-740722
END:VEVENT

END:VCALENDAR
