BEGIN:VCALENDAR
VERSION:2.0
PRODID:-//ChamberMaster//Event Calendar 2.0//EN
METHOD:PUBLISH
X-PUBLISHED-TTL:P3D
REFRESH-INTERVAL:P3D
CALSCALE:GREGORIAN
BEGIN:VEVENT
DTSTART:20210725T223000Z
DTEND:20210726T030000Z
X-MICROSOFT-CDO-ALLDAYEVENT:FALSE
SUMMARY:Lonny Lynn Orchestra
DESCRIPTION:Join us at the Surf Ballroom for our Big Band Series. Tonight's Entertainment: Lonny Lynn Orchestra
X-ALT-DESC;FMTTYPE=text/html:Join us at the Surf Ballroom for our Big Band Series. Tonight&#39\;s Entertainment: Lonny Lynn Orchestra
LOCATION:Surf Ballroom
UID:e.1102.733666
SEQUENCE:3
DTSTAMP:20260420T050059Z
URL:https://members.clearlakeiowa.com/events/details/lonny-lynn-orchestra-733666
END:VEVENT

END:VCALENDAR
