BEGIN:VCALENDAR
VERSION:2.0
PRODID:-//ChamberMaster//Event Calendar 2.0//EN
METHOD:PUBLISH
X-PUBLISHED-TTL:P3D
REFRESH-INTERVAL:P3D
CALSCALE:GREGORIAN
BEGIN:VEVENT
DTSTART:20240831T020000Z
DTEND:20240831T045500Z
X-MICROSOFT-CDO-ALLDAYEVENT:FALSE
SUMMARY:LIVE MUSIC @ TAP'd
DESCRIPTION:Friday night we bring back the OG party boy from Des Moines\, JAKE SCHRODT! JAKE plays a wide variety of country and rock from Chris Stapleton and Tyler Childers to Van Morrison\, Bill Withers\, Tom Petty and a whole lot more! JAKE'S shows are always a party playing all your favorite country and rock songs while mixing in your fun requests! He will literally play anything! JAKE takes the stage at 9! LIVE MUSIC THURSDAY\, FRIDAY\, SATURDAY\, & SUNDAY at TAP'd\, Downtown\, Clear Lake!
X-ALT-DESC;FMTTYPE=text/html:Friday night we bring back the OG party boy from Des Moines\, JAKE SCHRODT! JAKE plays a wide variety of country and rock from Chris Stapleton and Tyler Childers to Van Morrison\, Bill Withers\, Tom Petty and a whole lot more! JAKE&#39\;S shows are always a party playing all your favorite country and rock songs while mixing in your fun requests! He will literally play anything! JAKE takes the stage at 9! LIVE MUSIC THURSDAY\, FRIDAY\, SATURDAY\, &amp\; SUNDAY at TAP&rsquo\;d\, Downtown\, Clear Lake!
LOCATION:313 Main Avenue
UID:e.1102.738904
SEQUENCE:3
DTSTAMP:20260422T100310Z
URL:https://members.clearlakeiowa.com/events/details/live-music-tap-d-08-30-2024-738904
END:VEVENT

END:VCALENDAR
