BEGIN:VCALENDAR
VERSION:2.0
PRODID:-//ChamberMaster//Event Calendar 2.0//EN
METHOD:PUBLISH
X-PUBLISHED-TTL:P3D
REFRESH-INTERVAL:P3D
CALSCALE:GREGORIAN
BEGIN:VEVENT
DTSTART:20240817T020000Z
DTEND:20240817T045500Z
X-MICROSOFT-CDO-ALLDAYEVENT:FALSE
SUMMARY:LIVE MUSIC @ TAP'd
DESCRIPTION:THE SWEET NUTHINS are making the trip back to TAP'd all the way from Mason City\, Iowa! This local pop rock group has really made a name for themselves in the area! You'll hear them cover some of the greats by The Band\, The Beatles and Van Morrison! Show starts at 9! TAP'd is THE SPOT ALL SUMMER LONG with LIVE MUSIC EVERY Wednesday\, Thursday\, Friday & Saturday!
X-ALT-DESC;FMTTYPE=text/html:THE SWEET NUTHINS are making the trip back to TAP&rsquo\;d all the way from Mason City\, Iowa! This local pop rock group has really made a name for themselves in the area! You&rsquo\;ll hear them cover some of the greats by The Band\, The Beatles and Van Morrison! Show starts at 9! TAP&#39\;d is THE SPOT ALL SUMMER LONG with LIVE MUSIC EVERY Wednesday\, Thursday\, Friday &amp\; Saturday!
LOCATION:313 Main Avenue
UID:e.1102.738854
SEQUENCE:3
DTSTAMP:20260422T102502Z
URL:https://members.clearlakeiowa.com/events/details/live-music-tap-d-08-16-2024-738854
END:VEVENT

END:VCALENDAR
