BEGIN:VCALENDAR
VERSION:2.0
PRODID:-//ChamberMaster//Event Calendar 2.0//EN
METHOD:PUBLISH
X-PUBLISHED-TTL:P3D
REFRESH-INTERVAL:P3D
CALSCALE:GREGORIAN
BEGIN:VEVENT
DTSTART:20210718T020000Z
DTEND:20210719T045500Z
X-MICROSOFT-CDO-ALLDAYEVENT:FALSE
SUMMARY:LIVE MUSIC @ TAP'd
DESCRIPTION:Echo Messenger LIVE @ TAP'd for the first time! You're going to want to get there especially early for this one! Grab a drink\, table & ENJOY!
X-ALT-DESC;FMTTYPE=text/html:Echo Messenger LIVE @ TAP&#39\;d for the first time! You&#39\;re going to want to get there especially early for this one! Grab a drink\, table &amp\; ENJOY!
LOCATION:
UID:e.1102.733794
SEQUENCE:3
DTSTAMP:20260420T050329Z
URL:https://members.clearlakeiowa.com/events/details/live-music-tap-d-07-17-2021-733794
END:VEVENT

END:VCALENDAR
