BEGIN:VCALENDAR
VERSION:2.0
PRODID:-//ChamberMaster//Event Calendar 2.0//EN
METHOD:PUBLISH
X-PUBLISHED-TTL:P3D
REFRESH-INTERVAL:P3D
CALSCALE:GREGORIAN
BEGIN:VEVENT
DTSTART:20250315T010000Z
DTEND:20250315T045500Z
X-MICROSOFT-CDO-ALLDAYEVENT:FALSE
SUMMARY:LIVE MUSIC @ TAP'd
DESCRIPTION:Your Cali Boys are back! THE SCHOON BROTHERS\, originally from Manson\, Iowa\, have been to California and back on their music journey! They'll be playing us all the country and rock from the 90s and 2000s! Some artists they'll cover during this 5 HOUR SHOW are Third Eye Blind\, Post Malone and Luke Combs! Showtime is 8pm! LIVE MUSIC EVERY Thursday\, Friday & Saturday at TAP'd in downtown\, Clear Lake!
X-ALT-DESC;FMTTYPE=text/html:Your Cali Boys are back! THE SCHOON BROTHERS\, originally from Manson\, Iowa\, have been to California and back on their music journey! They&#39\;ll be playing us all the country and rock from the 90s and 2000s! Some artists they&#39\;ll cover during this 5 HOUR SHOW are Third Eye Blind\, Post Malone and Luke Combs! Showtime is 8pm! LIVE MUSIC EVERY Thursday\, Friday &amp\; Saturday at TAP&#39\;d in downtown\, Clear Lake!
LOCATION:313 Main Avenue
UID:e.1102.739484
SEQUENCE:3
DTSTAMP:20260422T224100Z
URL:https://members.clearlakeiowa.com/events/details/live-music-tap-d-03-14-2025-739484
END:VEVENT

END:VCALENDAR
