BEGIN:VCALENDAR
VERSION:2.0
PRODID:-//ChamberMaster//Event Calendar 2.0//EN
METHOD:PUBLISH
X-PUBLISHED-TTL:P3D
REFRESH-INTERVAL:P3D
CALSCALE:GREGORIAN
BEGIN:VEVENT
DTSTART:20260307T020000Z
DTEND:20260307T055500Z
X-MICROSOFT-CDO-ALLDAYEVENT:FALSE
SUMMARY:LIVE MUSIC @ TAP'd
DESCRIPTION:JEREMY OBER\, of the band Brutal Republic\, makes the trip from Fort Dodge to rock out with us for a Friday winter dance party evening. JEREMY'S favorite artists to cover are the Allman Brothers\, Johnny Cash\, and Led Zeppelin. JEREMY takes the stage at 9pm! TAP'd is THE SPOT! LIVE MUSIC THURSDAY\, FRIDAY and 2 SHOWS SATURDAY!
X-ALT-DESC;FMTTYPE=text/html:JEREMY OBER\, of the band Brutal Republic\, makes the trip from Fort Dodge to rock out with us for a Friday winter dance party evening. JEREMY&#39\;S favorite artists to cover are the Allman Brothers\, Johnny Cash\, and Led Zeppelin. JEREMY takes the stage at 9pm! TAP&#39\;d is THE SPOT! LIVE MUSIC THURSDAY\, FRIDAY and 2 SHOWS SATURDAY!
LOCATION:313 Main Avenue
UID:e.1102.741074
SEQUENCE:3
DTSTAMP:20260419T140416Z
URL:https://members.clearlakeiowa.com/events/details/live-music-tap-d-03-06-2026-741074
END:VEVENT

END:VCALENDAR
