BEGIN:VCALENDAR
VERSION:2.0
PRODID:-//ChamberMaster//Event Calendar 2.0//EN
METHOD:PUBLISH
X-PUBLISHED-TTL:P3D
REFRESH-INTERVAL:P3D
CALSCALE:GREGORIAN
BEGIN:VEVENT
DTSTART:20260301T020000Z
DTEND:20260301T055500Z
X-MICROSOFT-CDO-ALLDAYEVENT:FALSE
SUMMARY:LIVE MUSIC @ TAP'd
DESCRIPTION:BARRY RUTTER takes the TAP'd stage for the first time! BARRY comes to us from Ankeny to play us some country and rock on a SATURDAY NIGHT! We'll hear music from all the greats like Garth Brooks\, Luke Holmes and even some Lynyrd Skynyrd! BARRY takes the stage @ 8! TAP'd is THE SPOT with LIVE MUSIC EVERY THURSDAY\, FRIDAY & SATURDAY!
X-ALT-DESC;FMTTYPE=text/html:BARRY RUTTER takes the TAP&#39\;d stage for the first time! BARRY comes to us from Ankeny to play us some country and rock on a SATURDAY NIGHT! We&#39\;ll hear music from all the greats like Garth Brooks\, Luke Holmes and even some Lynyrd Skynyrd! BARRY takes the stage @ 8! TAP&#39\;d is THE SPOT with LIVE MUSIC EVERY THURSDAY\, FRIDAY &amp\; SATURDAY!
LOCATION:313 Main Avenue
UID:e.1102.741058
SEQUENCE:3
DTSTAMP:20260419T180338Z
URL:https://members.clearlakeiowa.com/events/details/live-music-tap-d-02-28-2026-741058
END:VEVENT

END:VCALENDAR
