BEGIN:VCALENDAR
VERSION:2.0
PRODID:-//ChamberMaster//Event Calendar 2.0//EN
METHOD:PUBLISH
X-PUBLISHED-TTL:P3D
REFRESH-INTERVAL:P3D
CALSCALE:GREGORIAN
BEGIN:VEVENT
DTSTART:20260228T020000Z
DTEND:20260228T055500Z
X-MICROSOFT-CDO-ALLDAYEVENT:FALSE
SUMMARY:LIVE MUSIC @ TAP'd
DESCRIPTION:BIG UP and COMING alternative country artist Will Barnett returns to TAP'd for a FRIDAY NIGHT SHOW! You can expect original country music as well as covers from artists such as Chris Stapleton\, Tyler Childers\, Sturgill Simpson and more. TAP'd is THE SPOT with LIVE MUSIC EVERY Thursday\, Friday and Saturday!
X-ALT-DESC;FMTTYPE=text/html:BIG UP and COMING alternative country artist Will Barnett returns to TAP&rsquo\;d for a FRIDAY NIGHT SHOW! You can expect original country music as well as covers from artists such as Chris Stapleton\, Tyler Childers\, Sturgill Simpson and more. TAP&#39\;d is THE SPOT with LIVE MUSIC EVERY Thursday\, Friday and Saturday!
LOCATION:313 Main Avenue
UID:e.1102.741057
SEQUENCE:3
DTSTAMP:20260419T180338Z
URL:https://members.clearlakeiowa.com/events/details/live-music-tap-d-02-27-2026-741057
END:VEVENT

END:VCALENDAR
