BEGIN:VCALENDAR
VERSION:2.0
PRODID:-//ChamberMaster//Event Calendar 2.0//EN
METHOD:PUBLISH
X-PUBLISHED-TTL:P3D
REFRESH-INTERVAL:P3D
CALSCALE:GREGORIAN
BEGIN:VEVENT
DTSTART:20260111T020000Z
DTEND:20260111T055500Z
X-MICROSOFT-CDO-ALLDAYEVENT:FALSE
SUMMARY:LIVE MUSIC @ TAP'd
DESCRIPTION:MIGHTY FITTIN' takes back the TAP'd stage! Familiar faces Don Fisher & Jared Wingert combine forces for a night to remember playing classic rock\, classic country and some blues! MIGHTY FITTIN' takes the stage @ 8??\nTAP'd is THE SPOT EVERY WEEKEND with LIVE MUSIC EVERY Thursday\, Friday & Saturday!
X-ALT-DESC;FMTTYPE=text/html:MIGHTY FITTIN' takes back the TAP'd stage! Familiar faces Don Fisher &amp\; Jared Wingert combine forces for a night to remember playing classic rock\, classic country and some blues! MIGHTY FITTIN' takes the stage @ 8??\nTAP'd is THE SPOT EVERY WEEKEND with LIVE MUSIC EVERY Thursday\, Friday &amp\; Saturday! 
LOCATION:313 Main Avenue
UID:e.1102.740743
SEQUENCE:3
DTSTAMP:20260419T191709Z
URL:https://members.clearlakeiowa.com/events/details/live-music-tap-d-01-10-2026-740743
END:VEVENT

END:VCALENDAR
