BEGIN:VCALENDAR
VERSION:2.0
PRODID:-//ChamberMaster//Event Calendar 2.0//EN
METHOD:PUBLISH
X-PUBLISHED-TTL:P3D
REFRESH-INTERVAL:P3D
CALSCALE:GREGORIAN
BEGIN:VEVENT
DTSTART:20260110T020000Z
DTEND:20260110T055500Z
X-MICROSOFT-CDO-ALLDAYEVENT:FALSE
SUMMARY:LIVE MUSIC @ TAP'd
DESCRIPTION:TAYLOR SMITH takes the TAP'd stage SOLO for the first time! TAYLOR is a race multi-instrumentalist from Eagle Grove using guitar\, fiddle and vocals featuring songs old and new from artists across all genres! TAYLor takes the stage @ 8! TAP'd is THE SPOT with LIVE MUSIC EVERY THURSDAY\, FRIDAY & SATURDAY!
X-ALT-DESC;FMTTYPE=text/html:TAYLOR SMITH takes the TAP'd stage SOLO for the first time! TAYLOR is a race multi-instrumentalist from Eagle Grove using guitar\, fiddle and vocals featuring songs old and new from artists across all genres! TAYLor takes the stage @ 8! TAP'd is THE SPOT with LIVE MUSIC EVERY THURSDAY\, FRIDAY &amp\; SATURDAY!
LOCATION:313 Main Avenue
UID:e.1102.740745
SEQUENCE:3
DTSTAMP:20260419T191719Z
URL:https://members.clearlakeiowa.com/events/details/live-music-tap-d-01-09-2026-740745
END:VEVENT

END:VCALENDAR
