BEGIN:VCALENDAR
VERSION:2.0
PRODID:-//ChamberMaster//Event Calendar 2.0//EN
METHOD:PUBLISH
X-PUBLISHED-TTL:P3D
REFRESH-INTERVAL:P3D
CALSCALE:GREGORIAN
BEGIN:VEVENT
DTSTART:20260104T030000Z
DTEND:20260105T055500Z
X-MICROSOFT-CDO-ALLDAYEVENT:FALSE
SUMMARY:LIVE MUSIC @ TAP'd
DESCRIPTION:JORDAN BEEM is a country artist from Des Moines\, IA. He recently became the 2024 Iowa Music Awards Country Artist of the Year & was the 2023 Midwest CMO New Artist of the Year! JORDAN brings a HIGH-ENERGY country sound and plays different genres as well with his drummer John Griffiths! TAP'd is THE SPOT ALL NEW YEARS EVE WEEKEND with LIVE MUSIC Wednesday\, Thursday\, Friday & Saturday!!
X-ALT-DESC;FMTTYPE=text/html:JORDAN BEEM is a country artist from Des Moines\, IA. He recently became the 2024 Iowa Music Awards Country Artist of the Year &amp\; was the 2023 Midwest CMO New Artist of the Year! JORDAN brings a HIGH-ENERGY country sound and plays different genres as well with his drummer John Griffiths! TAP&#39\;d is THE SPOT ALL NEW YEARS EVE WEEKEND with LIVE MUSIC Wednesday\, Thursday\, Friday &amp\; Saturday!!
LOCATION:313 Main Avenue
UID:e.1102.740738
SEQUENCE:3
DTSTAMP:20260419T193756Z
URL:https://members.clearlakeiowa.com/events/details/live-music-tap-d-01-03-2026-740738
END:VEVENT

END:VCALENDAR
