BEGIN:VCALENDAR
VERSION:2.0
PRODID:-//ChamberMaster//Event Calendar 2.0//EN
METHOD:PUBLISH
X-PUBLISHED-TTL:P3D
REFRESH-INTERVAL:P3D
CALSCALE:GREGORIAN
BEGIN:VEVENT
DTSTART:20260103T030000Z
DTEND:20260103T055500Z
X-MICROSOFT-CDO-ALLDAYEVENT:FALSE
SUMMARY:LIVE MUSIC @ TAP'd
DESCRIPTION:Australian sensation\, LUKE THOMAS\, is back at TAP'd for a FRIDAY NIGHT SHOW! LUKE picked up the guitar at 13 taking inspiration from the classic greats of George Strait\, Tim McGraw\, and Johnny Cash while learning the more modern songs of Eric Church\, Luke Combs\, Blake Shelton & Luke Bryan! LUKE THOMAS takes the TAP'd stage at 9PM! TAP'd is THE SPOT ALL NEW YEARS EVE WEEKEND with LIVE MUSIC Wednesday\, Thursday\, Friday & Saturday!
X-ALT-DESC;FMTTYPE=text/html:Australian sensation\, LUKE THOMAS\, is back at TAP&#39\;d for a FRIDAY NIGHT SHOW! LUKE picked up the guitar at 13 taking inspiration from the classic greats of George Strait\, Tim McGraw\, and Johnny Cash while learning the more modern songs of Eric Church\, Luke Combs\, Blake Shelton &amp\; Luke Bryan! LUKE THOMAS takes the TAP&#39\;d stage at 9PM! TAP&#39\;d is THE SPOT ALL NEW YEARS EVE WEEKEND with LIVE MUSIC Wednesday\, Thursday\, Friday &amp\; Saturday!
LOCATION:313 Main Avenue
UID:e.1102.740737
SEQUENCE:3
DTSTAMP:20260419T191709Z
URL:https://members.clearlakeiowa.com/events/details/live-music-tap-d-01-02-2026-740737
END:VEVENT

END:VCALENDAR
