BEGIN:VCALENDAR
VERSION:2.0
PRODID:-//ChamberMaster//Event Calendar 2.0//EN
METHOD:PUBLISH
X-PUBLISHED-TTL:P3D
REFRESH-INTERVAL:P3D
CALSCALE:GREGORIAN
BEGIN:VEVENT
DTSTART:20260111T010000Z
DTEND:20260111T040000Z
X-MICROSOFT-CDO-ALLDAYEVENT:FALSE
SUMMARY:Live Music at the VFW
DESCRIPTION:Stone Groove Band
X-ALT-DESC;FMTTYPE=text/html:<span style="color: rgb(8\, 8\, 9)\; font-family: &quot\;Segoe UI Historic&quot\;\, &quot\;Segoe UI&quot\;\, Helvetica\, Arial\, sans-serif\; font-size: 15px\; white-space-collapse: preserve\;">Stone Groove Band</span>
LOCATION:VFW
UID:e.1102.740740
SEQUENCE:3
DTSTAMP:20260419T191557Z
URL:https://members.clearlakeiowa.com/events/details/live-music-at-the-vfw-740740
END:VEVENT

END:VCALENDAR
