BEGIN:VCALENDAR
VERSION:2.0
PRODID:-//ChamberMaster//Event Calendar 2.0//EN
METHOD:PUBLISH
X-PUBLISHED-TTL:P3D
REFRESH-INTERVAL:P3D
CALSCALE:GREGORIAN
BEGIN:VEVENT
DTSTART:20210627T020000Z
DTEND:20210627T045500Z
X-MICROSOFT-CDO-ALLDAYEVENT:FALSE
SUMMARY:LIVE MUSIC at TAP'd
DESCRIPTION:Mclane Powell at TAP'd for the first time playing all your country and rock favorites.
X-ALT-DESC;FMTTYPE=text/html:Mclane Powell at TAP&#39\;d for the first time playing all your country and rock favorites.
LOCATION:313 Main Ave.\, Clear Lake
UID:e.1102.733775
SEQUENCE:3
DTSTAMP:20260422T180610Z
URL:https://members.clearlakeiowa.com/events/details/live-music-at-tap-d-06-26-2021-733775
END:VEVENT

END:VCALENDAR
