BEGIN:VCALENDAR
VERSION:2.0
PRODID:-//ChamberMaster//Event Calendar 2.0//EN
METHOD:PUBLISH
X-PUBLISHED-TTL:P3D
REFRESH-INTERVAL:P3D
CALSCALE:GREGORIAN
BEGIN:VEVENT
DTSTART:20260426T000000Z
DTEND:20260426T040000Z
X-MICROSOFT-CDO-ALLDAYEVENT:FALSE
SUMMARY:Live Music at Rumorz
DESCRIPTION:Spend your Saturday night at Rumorz with live music from the Kraft Brothers on Saturday\, April 25th from 8 11 PM!\n\nIf you love classic country\, southern rock\, and acoustic favorites\, this is the perfect way to kick off your weekend. The Kraft Brothers always bring a fun\, high-energy set that keeps the drinks flowing and the good times rolling.
X-ALT-DESC;FMTTYPE=text/html:<div class="xdj266r x14z9mp xat24cr x1lziwak x1vvkbs" style="overflow-wrap: break-word\; margin-inline: 0px\; margin-bottom: 0px\; margin-top: 0px\; font-family: &quot\;Segoe UI Historic&quot\;\, &quot\;Segoe UI&quot\;\, Helvetica\, Arial\, sans-serif\; color: rgb(8\, 8\, 9)\; font-size: 15px\;">\n<div class="xdj266r x14z9mp xat24cr x1lziwak x1vvkbs" style="margin-inline: 0px\; overflow-wrap: break-word\; margin-bottom: 0px\; margin-top: 0px\; font-family: &quot\;Segoe UI Historic&quot\;\, &quot\;Segoe UI&quot\;\, Helvetica\, Arial\, sans-serif\; color: rgb(8\, 8\, 9)\; font-size: 15px\;">Spend your Saturday night at Rumorz with live music from the Kraft Brothers on Saturday\, April 25th from 8&ndash\;11 PM!</div>\n\n<div class="x14z9mp xat24cr x1lziwak x1vvkbs xtlvy1s" style="margin-inline: 0px\; overflow-wrap: break-word\; margin-bottom: 0px\; margin-top: 0.5em\; font-family: &quot\;Segoe UI Historic&quot\;\, &quot\;Segoe UI&quot\;\, Helvetica\, Arial\, sans-serif\; color: rgb(8\, 8\, 9)\; font-size: 15px\;">If you love classic country\, southern rock\, and acoustic favorites\, this is the perfect way to kick off your weekend. The Kraft Brothers always bring a fun\, high-energy set that keeps the drinks flowing and the good times rolling.</div>\n</div>\n
LOCATION:Rumorz\, 1210 South Shore Dr.
UID:e.1102.741422
SEQUENCE:3
DTSTAMP:20260424T081538Z
URL:https://members.clearlakeiowa.com/events/details/live-music-at-rumorz-741422
END:VEVENT

END:VCALENDAR
