BEGIN:VCALENDAR
VERSION:2.0
PRODID:-//ChamberMaster//Event Calendar 2.0//EN
METHOD:PUBLISH
X-PUBLISHED-TTL:P3D
REFRESH-INTERVAL:P3D
CALSCALE:GREGORIAN
BEGIN:VEVENT
DTSTART:20260314T230000Z
DTEND:20260315T013000Z
X-MICROSOFT-CDO-ALLDAYEVENT:FALSE
SUMMARY:Line Dancing Pop-up Before Ian Munsick
DESCRIPTION:Join us before Ian Munsick on March 14 for a fun night in The Palms! ???? We're starting the evening with a ticketed line dance class: Cocktail Time: 6:00 6:30 PM Line Dance Class: 6:30 7:30 PM Cost: $10 per person Please note: You must purchase a line dancing ticket to attend the class. After the class\, everyone is invited to keep the party going! Pre-Party & Cocktail Hour: 7:30 8:30 PM (Open to the public   no ticket needed!) Not into line dancing? No problem   just join us for the pre-party and get the night started before the show!
X-ALT-DESC;FMTTYPE=text/html:Join us before Ian Munsick on March 14 for a fun night in The Palms! ???? We&rsquo\;re starting the evening with a ticketed line dance class: Cocktail Time: 6:00&ndash\;6:30 PM Line Dance Class: 6:30&ndash\;7:30 PM Cost: $10 per person Please note: You must purchase a line dancing ticket to attend the class. After the class\, everyone is invited to keep the party going! Pre-Party &amp\; Cocktail Hour: 7:30&ndash\;8:30 PM (Open to the public &mdash\; no ticket needed!) Not into line dancing? No problem &mdash\; just join us for the pre-party and get the night started before the show!
LOCATION:The Palms Upstairs at 468 North Shore Dr
UID:e.1102.741065
SEQUENCE:3
DTSTAMP:20260419T124829Z
URL:https://members.clearlakeiowa.com/events/details/line-dancing-pop-up-before-ian-munsick-741065
END:VEVENT

END:VCALENDAR
