BEGIN:VCALENDAR
VERSION:2.0
PRODID:-//ChamberMaster//Event Calendar 2.0//EN
METHOD:PUBLISH
X-PUBLISHED-TTL:P3D
REFRESH-INTERVAL:P3D
CALSCALE:GREGORIAN
BEGIN:VEVENT
DTSTART;VALUE=DATE:20250522
DTEND;VALUE=DATE:20250527
TRANSP:TRANSPARENT
X-MICROSOFT-CDO-ALLDAYEVENT:TRUE
SUMMARY:Lilo & Stitch (PG)
DESCRIPTION:"Lilo & Stitch\," the wildly funny and touching story of a lonely Hawaiian girl and the fugitive alien who helps to mend her broken family\, will open exclusively in theaters May 23\, 2025. A live-action reimagining of Disney's 2002 animated classic\, "Lilo & Stitch" is directed by Dean Fleischer Camp\, the Oscar -nominated filmmaker behind the animated feature film "Marcel the Shell with Shoes On\," and stars Sydney Elizebeth Agudong\, Billy Magnussen\, Tia Carrere\, Hannah Waddingham\, Chris Sanders\, with Courtney B. Vance\, and Zach Galifianakis\, and introducing Maia Kealoha. The screenplay is by Chris Kekaniokalani Bright and Mike Van Waes\, and the film is produced by Jonathan Eirich\, p.g.a. and Dan Lin\, with Tom Peitzman\, Ryan Halprin\, Louie Provost\, Thomas Schumacher serving as executive producers.
X-ALT-DESC;FMTTYPE=text/html:<p class="film-desc" style="margin: 0px 0px 10px\; font-size: 12px\; max-width: 620px\;"><span style="font-family: Roboto\, sans-serif\; font-size: 12px\;">&ldquo\;Lilo &amp\; Stitch\,&rdquo\; the wildly funny and touching story of a lonely Hawaiian girl and the fugitive alien who helps to mend her broken family\, will open exclusively in theaters May 23\, 2025. A live-action reimagining of Disney&rsquo\;s 2002 animated classic\, &ldquo\;Lilo &amp\; Stitch&rdquo\; is directed by Dean Fleischer Camp\, the Oscar&reg\;-nominated filmmaker behind the animated feature film &ldquo\;Marcel the Shell with Shoes On\,&rdquo\; and stars Sydney Elizebeth Agudong\, Billy Magnussen\, Tia Carrere\, Hannah Waddingham\, Chris Sanders\, with Courtney B. Vance\, and Zach Galifianakis\, and introducing Maia Kealoha. The screenplay is by Chris Kekaniokalani Bright and Mike Van Waes\, and the film is produced by Jonathan Eirich\, p.g.a. and Dan Lin\, with Tom Peitzman\, Ryan Halprin\, Louie Provost\, Thomas Schumacher serving as executive producers.</span></p>\n\n<div class="sessions" style="float: left\; max-width: 600px\; font-family: Roboto\, sans-serif\; font-size: 14px\;">\n<div class="date-container" style="margin: 0px 0px 10px\; overflow: hidden\;">&nbsp\;</div>\n</div>\n
LOCATION:Lake Theatre\, 4 North 4th Street
UID:e.1102.739795
SEQUENCE:3
DTSTAMP:20260422T210838Z
URL:https://members.clearlakeiowa.com/events/details/lilo-stitch-pg-739795
END:VEVENT

END:VCALENDAR
