BEGIN:VCALENDAR
VERSION:2.0
PRODID:-//ChamberMaster//Event Calendar 2.0//EN
METHOD:PUBLISH
X-PUBLISHED-TTL:P3D
REFRESH-INTERVAL:P3D
CALSCALE:GREGORIAN
BEGIN:VEVENT
DTSTART:20191205T223000Z
DTEND:20191206T000000Z
X-MICROSOFT-CDO-ALLDAYEVENT:FALSE
SUMMARY:Lights On 5K
DESCRIPTION:Area runners and walkers are invited to "turns the lights on" for One Vision's Festival of Trees celebration at the sixth annual Lights On 5K Run/Walk. Registration is open for the Lights On 5K\, scheduled to take place on Nov. 29 at 4:30 p.m. The run will start at The Other Place\, 200 U.S. Highway 18\, and follow streets throughout the OV neighborhood in northwest Clear Lake. Participants are encouraged to dress in holiday lights and costumes. The run is a benefit for One Vision. All proceeds from registration and donations will buy Christmas gifts for individuals supported by OV\, who wouldn't otherwise have gifts under their tree. The first 100 people to register online also will receive a free gift. If temperatures fall below zero\, the event will be canceled with no refunds. Get more information and register online at www.lightson5k.org.
X-ALT-DESC;FMTTYPE=text/html:Area runners and walkers are invited to &ldquo\;turns the&nbsp\;lights&nbsp\;on&rdquo\; for One Vision&#39\;s Festival of Trees celebration at the sixth annual&nbsp\;Lights&nbsp\;On 5K Run/Walk. Registration is open for the&nbsp\;Lights&nbsp\;On 5K\, scheduled to take place on Nov. 29 at 4:30 p.m. The run will start at The Other Place\, 200 U.S. Highway 18\, and follow streets throughout the OV neighborhood in northwest Clear Lake. Participants are encouraged to dress in holiday&nbsp\;lights&nbsp\;and costumes. The run is a benefit for One Vision. All proceeds from registration and donations will buy Christmas gifts for individuals supported by OV\, who wouldn&#39\;t otherwise have gifts under their tree. The first 100 people to register online also will receive a free gift. If temperatures fall below zero\, the event will be canceled with no refunds. Get more information and register online at&nbsp\;www.lightson5k.org.
LOCATION:The Other Place Clear Lake Iowa
UID:e.1102.731536
SEQUENCE:3
DTSTAMP:20260421T160724Z
URL:https://members.clearlakeiowa.com/events/details/lights-on-5k-731536
END:VEVENT

END:VCALENDAR
