BEGIN:VCALENDAR
VERSION:2.0
PRODID:-//ChamberMaster//Event Calendar 2.0//EN
METHOD:PUBLISH
X-PUBLISHED-TTL:P3D
REFRESH-INTERVAL:P3D
CALSCALE:GREGORIAN
BEGIN:VEVENT
DTSTART;VALUE=DATE:20201205
DTEND;VALUE=DATE:20201206
TRANSP:TRANSPARENT
X-MICROSOFT-CDO-ALLDAYEVENT:TRUE
SUMMARY:Lights On 5k
DESCRIPTION:Area runners and walkers are invited to "turns the lights on" for One Vision's Festival of Trees celebration at the 8th Annual Lights On 5K Run/Walk. The run is a benefit for One Vision. All proceeds from registration and donations will buy Christmas gifts for individuals supported by OV.
X-ALT-DESC;FMTTYPE=text/html:Area runners and walkers are invited to &ldquo\;turns the lights on&rdquo\; for One Vision&#39\;s Festival of Trees celebration at the 8th Annual Lights On 5K Run/Walk. The run is a benefit for One Vision. All proceeds from registration and donations will buy Christmas gifts for individuals supported by OV.
LOCATION:Virtual
UID:e.1102.732524
SEQUENCE:3
DTSTAMP:20260422T121625Z
URL:https://members.clearlakeiowa.com/events/details/lights-on-5k-12-03-2020-732524
END:VEVENT

END:VCALENDAR
