BEGIN:VCALENDAR
VERSION:2.0
PRODID:-//ChamberMaster//Event Calendar 2.0//EN
METHOD:PUBLISH
X-PUBLISHED-TTL:P3D
REFRESH-INTERVAL:P3D
CALSCALE:GREGORIAN
BEGIN:VEVENT
DTSTART:20260310T150000Z
DTEND:20260310T170000Z
X-MICROSOFT-CDO-ALLDAYEVENT:FALSE
SUMMARY:Lego® Open Build
DESCRIPTION:Enjoy a Lego  open build at the library for a morning. We provide the materials\, you provide the imagination! Children under 8 need to be accompanied by an adult. Three different sizes of building blocks will be provided so the whole family can come!
X-ALT-DESC;FMTTYPE=text/html:Enjoy a Lego&reg\; open build at the library for a morning. We provide the materials\, you provide the imagination! Children under 8 need to be accompanied by an adult. Three different sizes of building blocks will be provided so the whole family can come!
LOCATION:Clear Lake Public Library 200 N 4th Street Meeting Rooms
UID:e.1102.740123
SEQUENCE:3
DTSTAMP:20260419T124803Z
URL:https://members.clearlakeiowa.com/events/details/lego-open-build-740123
END:VEVENT

END:VCALENDAR
