BEGIN:VCALENDAR
VERSION:2.0
PRODID:-//ChamberMaster//Event Calendar 2.0//EN
METHOD:PUBLISH
X-PUBLISHED-TTL:P3D
REFRESH-INTERVAL:P3D
CALSCALE:GREGORIAN
BEGIN:VEVENT
DTSTART:20190921T150000Z
DTEND:20190921T190000Z
X-MICROSOFT-CDO-ALLDAYEVENT:FALSE
SUMMARY:LaLa PawLooza DogFest
DESCRIPTION:The Salvation Army of North Iowa and Alpha Media are happy to announce our 1st annual Dogfest! This will be taking place on September 21st at the North Iowa Events Center in the Kinney Building.\n\n\n\nDoors will open at 9:30am and the event will run until 2pm.\n\n\n\nThe premier event will be our "Dog Runway Show" at 10am. This will be followed by several challenges including:\n\n\n\nBest of Fest Contest\n\nAn Agility Course\n\nDog Trick Exhibition\n\nRace To Your Guardian contest\n\n\n\nIn addition there will be a variety of family friendly dog themed activities to participate in including but not limited to a photo booth\, face painting\, and a chance to talk with a groomer or vet about any questions you may have. There will also be treats for humans and canines alike on site during the event.\n\n\n\nLastly\, there will be a silent auction with a variety of dog goods throughout the day.\n\n\n\nThe $5 admission fee will go to support the various programs that The Salvation Army provides throughout the year for children\, adults\, and families in need.\n\n\n\nFor more specifics or to enter your dog in the Runway Show or volunteer to be part of our event team contact Sandy at skrhbree@wctatel.net
X-ALT-DESC;FMTTYPE=text/html:<span style="color:rgb(29\, 33\, 41)\; font-family:helvetica\,arial\,sans-serif\; font-size:14px">The Salvation Army of North Iowa and Alpha Media are happy to announce our 1st annual Dogfest! This will be taking place on September 21st at the North Iowa Events Center in the Kinney Building.</span><br />\n<br />\n<span style="color:rgb(29\, 33\, 41)\; font-family:helvetica\,arial\,sans-serif\; font-size:14px">Doors will open at 9:30am and the event will run until 2pm.</span><br />\n<br />\n<span style="color:rgb(29\, 33\, 41)\; font-family:helvetica\,arial\,sans-serif\; font-size:14px">The premier event will be our &quot\;Dog Runway Show&quot\; at 10am. This will be followed by several challenges including:</span><br />\n<br />\n<span style="color:rgb(29\, 33\, 41)\; font-family:helvetica\,arial\,sans-serif\; font-size:14px">Best of Fest Contest</span><br />\n<span style="color:rgb(29\, 33\, 41)\; font-family:helvetica\,arial\,sans-serif\; font-size:14px">An Agility Course</span><br />\n<span style="color:rgb(29\, 33\, 41)\; font-family:helvetica\,arial\,sans-serif\; font-size:14px">Dog Trick Exhibition</span><br />\n<span style="color:rgb(29\, 33\, 41)\; font-family:helvetica\,arial\,sans-serif\; font-size:14px">Race To Your Guardian contest</span><br />\n<br />\n<span style="color:rgb(29\, 33\, 41)\; font-family:helvetica\,arial\,sans-serif\; font-size:14px">In addition there will be a variety of family friendly dog themed activities to participate in including but not limited to a photo booth\, face painting\, and a chance to talk with a groomer or vet about any questions you may have. There will also be treats for humans and canines alike on site during the event.</span><br />\n<br />\n<span style="color:rgb(29\, 33\, 41)\; font-family:helvetica\,arial\,sans-serif\; font-size:14px">Lastly\, there will be a silent auction with a variety of dog goods throughout the day.</span><br />\n<br />\n<span style="color:rgb(29\, 33\, 41)\; font-family:helvetica\,arial\,sans-serif\; font-size:14px">The $5 admission fee will go to support the various programs that The Salvation Army provides throughout the year for children\, adults\, and families in need.</span><br />\n<br />\n<span style="color:rgb(29\, 33\, 41)\; font-family:helvetica\,arial\,sans-serif\; font-size:14px">For more specifics or to enter your dog in the Runway Show or volunteer to be part of our event team contact Sandy at skrhbree@wctatel.net</span>
LOCATION:North Iowa Fair Grounds\, Mason City IA
UID:e.1102.732274
SEQUENCE:3
DTSTAMP:20260421T201834Z
URL:https://members.clearlakeiowa.com/events/details/lala-pawlooza-dogfest-732274
END:VEVENT

END:VCALENDAR
